BEGIN:VCALENDAR
VERSION:2.0
PRODID:-//Ovocnářská unie České republiky - ECPv6.15.18//NONSGML v1.0//EN
CALSCALE:GREGORIAN
METHOD:PUBLISH
X-WR-CALNAME:Ovocnářská unie České republiky
X-ORIGINAL-URL:https://www.ovocnarska-unie.cz
X-WR-CALDESC:Akce na Ovocnářská unie České republiky
REFRESH-INTERVAL;VALUE=DURATION:PT1H
X-Robots-Tag:noindex
X-PUBLISHED-TTL:PT1H
BEGIN:VTIMEZONE
TZID:Europe/Prague
BEGIN:DAYLIGHT
TZOFFSETFROM:+0100
TZOFFSETTO:+0200
TZNAME:CEST
DTSTART:20240331T010000
END:DAYLIGHT
BEGIN:STANDARD
TZOFFSETFROM:+0200
TZOFFSETTO:+0100
TZNAME:CET
DTSTART:20241027T010000
END:STANDARD
BEGIN:DAYLIGHT
TZOFFSETFROM:+0100
TZOFFSETTO:+0200
TZNAME:CEST
DTSTART:20250330T010000
END:DAYLIGHT
BEGIN:STANDARD
TZOFFSETFROM:+0200
TZOFFSETTO:+0100
TZNAME:CET
DTSTART:20251026T010000
END:STANDARD
BEGIN:DAYLIGHT
TZOFFSETFROM:+0100
TZOFFSETTO:+0200
TZNAME:CEST
DTSTART:20260329T010000
END:DAYLIGHT
BEGIN:STANDARD
TZOFFSETFROM:+0200
TZOFFSETTO:+0100
TZNAME:CET
DTSTART:20261025T010000
END:STANDARD
END:VTIMEZONE
BEGIN:VEVENT
DTSTART;TZID=Europe/Prague:20250415T090000
DTEND;TZID=Europe/Prague:20250415T235900
DTSTAMP:20260422T014108
CREATED:20250318T001114Z
LAST-MODIFIED:20250318T001335Z
UID:3542-1744707600-1744761540@www.ovocnarska-unie.cz
SUMMARY:Školení IPO 15.4.2025
DESCRIPTION:Školení IPO – ovoce se uskuteční on-line 15.4.2025 od 9:00 hod. na www.tvzemedelec.cz \nProgram školení a další informace a dokumenty naleznete u přihlašovacího formuláře. \n-> PŘIHLAŠOVÁNÍ ZDE <-
URL:https://www.ovocnarska-unie.cz/kalendar/akce-skoleni-ipo-15-4-2025/
END:VEVENT
END:VCALENDAR