BEGIN:VCALENDAR
VERSION:2.0
PRODID:-//Ovocnářská unie České republiky - ECPv6.15.18//NONSGML v1.0//EN
CALSCALE:GREGORIAN
METHOD:PUBLISH
X-WR-CALNAME:Ovocnářská unie České republiky
X-ORIGINAL-URL:https://www.ovocnarska-unie.cz
X-WR-CALDESC:Akce na Ovocnářská unie České republiky
REFRESH-INTERVAL;VALUE=DURATION:PT1H
X-Robots-Tag:noindex
X-PUBLISHED-TTL:PT1H
BEGIN:VTIMEZONE
TZID:Europe/Prague
BEGIN:DAYLIGHT
TZOFFSETFROM:+0100
TZOFFSETTO:+0200
TZNAME:CEST
DTSTART:20240331T010000
END:DAYLIGHT
BEGIN:STANDARD
TZOFFSETFROM:+0200
TZOFFSETTO:+0100
TZNAME:CET
DTSTART:20241027T010000
END:STANDARD
BEGIN:DAYLIGHT
TZOFFSETFROM:+0100
TZOFFSETTO:+0200
TZNAME:CEST
DTSTART:20250330T010000
END:DAYLIGHT
BEGIN:STANDARD
TZOFFSETFROM:+0200
TZOFFSETTO:+0100
TZNAME:CET
DTSTART:20251026T010000
END:STANDARD
BEGIN:DAYLIGHT
TZOFFSETFROM:+0100
TZOFFSETTO:+0200
TZNAME:CEST
DTSTART:20260329T010000
END:DAYLIGHT
BEGIN:STANDARD
TZOFFSETFROM:+0200
TZOFFSETTO:+0100
TZNAME:CET
DTSTART:20261025T010000
END:STANDARD
BEGIN:DAYLIGHT
TZOFFSETFROM:+0100
TZOFFSETTO:+0200
TZNAME:CEST
DTSTART:20270328T010000
END:DAYLIGHT
BEGIN:STANDARD
TZOFFSETFROM:+0200
TZOFFSETTO:+0100
TZNAME:CET
DTSTART:20271031T010000
END:STANDARD
END:VTIMEZONE
BEGIN:VEVENT
DTSTART;VALUE=DATE:20260202
DTEND;VALUE=DATE:20260205
DTSTAMP:20260419T143315
CREATED:20251207T125313Z
LAST-MODIFIED:20251207T125313Z
UID:3747-1769990400-1770249599@www.ovocnarska-unie.cz
SUMMARY:Ovocinársky seminár Papranno 2026 (Kohaplant) - hotel Aquatermal v Dolnej Strehovej
DESCRIPTION:
URL:https://www.ovocnarska-unie.cz/kalendar/ovocinarsky-seminar-papranno-2026-kohaplant-hotel-aquatermal-v-dolnej-strehovej/
END:VEVENT
BEGIN:VEVENT
DTSTART;VALUE=DATE:20260128
DTEND;VALUE=DATE:20260130
DTSTAMP:20260419T143315
CREATED:20251207T124928Z
LAST-MODIFIED:20251207T124928Z
UID:3737-1769558400-1769731199@www.ovocnarska-unie.cz
SUMMARY:Školkařské dny ŠS OUČR - Šiklův mlýn
DESCRIPTION:
URL:https://www.ovocnarska-unie.cz/kalendar/skolkarske-dny-ss-oucr-sikluv-mlyn/
END:VEVENT
BEGIN:VEVENT
DTSTART;VALUE=DATE:20260126
DTEND;VALUE=DATE:20260128
DTSTAMP:20260419T143315
CREATED:20251207T125225Z
LAST-MODIFIED:20251207T125225Z
UID:3745-1769385600-1769558399@www.ovocnarska-unie.cz
SUMMARY:Zelinářské dny (ZUČM) - Seč-Ústupky - hotel Jezerka
DESCRIPTION:
URL:https://www.ovocnarska-unie.cz/kalendar/zelinarske-dny-zucm-sec-ustupky-hotel-jezerka/
END:VEVENT
BEGIN:VEVENT
DTSTART;VALUE=DATE:20260113
DTEND;VALUE=DATE:20260115
DTSTAMP:20260419T143315
CREATED:20251207T124127Z
LAST-MODIFIED:20251207T124720Z
UID:3734-1768262400-1768435199@www.ovocnarska-unie.cz
SUMMARY:Ovocnářské dny - Hradec Králové
DESCRIPTION:
URL:https://www.ovocnarska-unie.cz/kalendar/ovocnarske-dny-hradec-kralove/
END:VEVENT
BEGIN:VEVENT
DTSTART;VALUE=DATE:20251209
DTEND;VALUE=DATE:20251210
DTSTAMP:20260419T143315
CREATED:20251207T125139Z
LAST-MODIFIED:20251207T125139Z
UID:3743-1765238400-1765324799@www.ovocnarska-unie.cz
SUMMARY:Predvianočné ovocinárske dni (OUSR) – Piešťany – hotel Park
DESCRIPTION:
URL:https://www.ovocnarska-unie.cz/kalendar/predvianocne-ovocinarske-dni-ousr-piestany-hotel-park/
END:VEVENT
BEGIN:VEVENT
DTSTART;TZID=Europe/Prague:20250415T090000
DTEND;TZID=Europe/Prague:20250415T235900
DTSTAMP:20260419T143315
CREATED:20250318T001114Z
LAST-MODIFIED:20250318T001335Z
UID:3542-1744707600-1744761540@www.ovocnarska-unie.cz
SUMMARY:Školení IPO 15.4.2025
DESCRIPTION:Školení IPO – ovoce se uskuteční on-line 15.4.2025 od 9:00 hod. na www.tvzemedelec.cz \nProgram školení a další informace a dokumenty naleznete u přihlašovacího formuláře. \n-> PŘIHLAŠOVÁNÍ ZDE <-
URL:https://www.ovocnarska-unie.cz/kalendar/akce-skoleni-ipo-15-4-2025/
END:VEVENT
END:VCALENDAR